BEGIN:VCALENDAR
VERSION:2.0
METHOD:PUBLISH
X-WR-CALNAME:VFEK |  március 10 2008- március 10 2008
PRODID:-//strange bird labs//Drupal iCal API//EN
BEGIN:VEVENT
DTSTAMP;VALUE=DATE-TIME:20260421T015356Z
DTSTART;VALUE=DATE-TIME:20080304T153000Z
DTEND;VALUE=DATE-TIME:20080318T170000Z
UID:http://portal.vfmk.hu/node/87
URL;VALUE=URI:http://portal.vfmk.hu/node/87
SUMMARY:Nagy László kiállítása
DESCRIPTION:<p><tt>
 <p align=\\"center\\"><span style=\\"font-family\: Tahoma\;\\">A Verseghy Ferenc K&ouml\;nyvt&aacute\;r<br />
 &eacute\;s Művelőd&eacute\;si Int&eacute\;zet<br />
 tisztelettel megh&iacute\;vja &Ouml\;nt &eacute\;s kedves csal&aacute\;dj&aacute\;t<br />
 <br />
 <b>Nagy L&aacute\;szl&oacute\;</b><br />
 A-FIAP\, E-MAFOSZ/G<br />
 <b>fot&oacute\;műv&eacute\;sz</b><br />
 <br />
 <font size=\\"3\\"><b>&quot\;Vir&aacute\;gok nőnapra&quot\;</b></font>c&iacute\;mű<br />
 <br />
 fot&oacute\;ki&aacute\;ll&iacute\;t&aacute\;s&aacute\;ra<br />
 <u>2008. m&aacute\;rcius 4-&eacute\;n 16.30 &oacute\;r&aacute\;ra</u><br />
 a <b>Műv&eacute\;szeti Szalon</b>ba.<br />
 <br />
 A ki&aacute\;ll&iacute\;t&aacute\;st megnyitja\:<br />
 <b>Szalay Ferenc</b> polg&aacute\;rmester<br />
 <br />
 &nbsp\;</span></p>
 <p align=\\"justify\\"><span style=\\"font-family\: Tahoma\;\\">A ki&aacute\;ll&iacute\;t&aacute\;s megtekinthető a k&ouml\;nyvt&aacute\;r nyitvatart&aacute\;si idej&eacute\;ben m&aacute\;rcius 18-ig<br />
 <br />
 <u>A ki&aacute\;ll&iacute\;t&aacute\;s t&aacute\;mogat&oacute\;i\:</u><br />
 <i>Nagy Gyula<br />
 Szolnok V&aacute\;ros &Ouml\;nkorm&aacute\;nyzata<br />
 Verseghy Ferenc K&ouml\;nyvt&aacute\;r &eacute\;s Művelőd&eacute\;si Int&eacute\;zet</i></span></p>
 </tt></p>
 <p>&nbsp\;</p>
END:VEVENT
END:VCALENDAR
